BEGIN:VCALENDAR
VERSION:2.0
PRODID:-//IRIS - ECPv6.15.20//NONSGML v1.0//EN
CALSCALE:GREGORIAN
METHOD:PUBLISH
X-ORIGINAL-URL:https://www.iris.co.uk
X-WR-CALDESC:Events for IRIS
REFRESH-INTERVAL;VALUE=DURATION:PT1H
X-Robots-Tag:noindex
X-PUBLISHED-TTL:PT1H
BEGIN:VTIMEZONE
TZID:Europe/London
BEGIN:DAYLIGHT
TZOFFSETFROM:+0000
TZOFFSETTO:+0100
TZNAME:BST
DTSTART:20250330T010000
END:DAYLIGHT
BEGIN:STANDARD
TZOFFSETFROM:+0100
TZOFFSETTO:+0000
TZNAME:GMT
DTSTART:20251026T010000
END:STANDARD
BEGIN:DAYLIGHT
TZOFFSETFROM:+0000
TZOFFSETTO:+0100
TZNAME:BST
DTSTART:20260329T010000
END:DAYLIGHT
BEGIN:STANDARD
TZOFFSETFROM:+0100
TZOFFSETTO:+0000
TZNAME:GMT
DTSTART:20261025T010000
END:STANDARD
BEGIN:DAYLIGHT
TZOFFSETFROM:+0000
TZOFFSETTO:+0100
TZNAME:BST
DTSTART:20270328T010000
END:DAYLIGHT
BEGIN:STANDARD
TZOFFSETFROM:+0100
TZOFFSETTO:+0000
TZNAME:GMT
DTSTART:20271031T010000
END:STANDARD
END:VTIMEZONE
BEGIN:VEVENT
DTSTART;VALUE=DATE:20260121
DTEND;VALUE=DATE:20260124
DTSTAMP:20260425T012419
CREATED:20251201T103424Z
LAST-MODIFIED:20251203T090709Z
UID:218129-1768953600-1769212799@www.iris.co.uk
SUMMARY:BETT Show 2026
DESCRIPTION:IRIS Education will be exhibiting at Bett 2026. From 21st – 23th January\, we’ll be at the ExCeL Centre\, London\, to welcome customers and new faces to our stand (SE50) and show you exactly what we’ve been getting excited about. Come and see us on-stand to learn how we can support you to become a smarter school or trust.\n\n 
URL:https://www.iris.co.uk/event/bett-show-2026/
LOCATION:ExCeL London\, Royal Victoria Dock\, 1 Western Gateway\, Royal Docks\, London\, E16 1XL\, United Kingdom
CATEGORIES:Attending
END:VEVENT
END:VCALENDAR