BEGIN:VCALENDAR
VERSION:2.0
PRODID:-//IRIS - ECPv6.15.20//NONSGML v1.0//EN
CALSCALE:GREGORIAN
METHOD:PUBLISH
X-ORIGINAL-URL:https://www.iris.co.uk
X-WR-CALDESC:Events for IRIS
REFRESH-INTERVAL;VALUE=DURATION:PT1H
X-Robots-Tag:noindex
X-PUBLISHED-TTL:PT1H
BEGIN:VTIMEZONE
TZID:Europe/London
BEGIN:DAYLIGHT
TZOFFSETFROM:+0000
TZOFFSETTO:+0100
TZNAME:BST
DTSTART:20250330T010000
END:DAYLIGHT
BEGIN:STANDARD
TZOFFSETFROM:+0100
TZOFFSETTO:+0000
TZNAME:GMT
DTSTART:20251026T010000
END:STANDARD
BEGIN:DAYLIGHT
TZOFFSETFROM:+0000
TZOFFSETTO:+0100
TZNAME:BST
DTSTART:20260329T010000
END:DAYLIGHT
BEGIN:STANDARD
TZOFFSETFROM:+0100
TZOFFSETTO:+0000
TZNAME:GMT
DTSTART:20261025T010000
END:STANDARD
BEGIN:DAYLIGHT
TZOFFSETFROM:+0000
TZOFFSETTO:+0100
TZNAME:BST
DTSTART:20270328T010000
END:DAYLIGHT
BEGIN:STANDARD
TZOFFSETFROM:+0100
TZOFFSETTO:+0000
TZNAME:GMT
DTSTART:20271031T010000
END:STANDARD
END:VTIMEZONE
BEGIN:VEVENT
DTSTART;TZID=Europe/London:20260507T090000
DTEND;TZID=Europe/London:20260507T163000
DTSTAMP:20260424T214423
CREATED:20260417T145141Z
LAST-MODIFIED:20260417T145141Z
UID:224512-1778144400-1778171400@www.iris.co.uk
SUMMARY:IRIS at Schools & Academies Show London 7 May
DESCRIPTION:For smarter schools and trusts\, IRIS Education empowers school and trust leadership with education management software that works as hard as you do.\n\nIRIS Education are exhibiting at Schools & Academies show at ExCel London on stand I27.\n\nJoin IRIS Education\, and a panel of experts from Edufin and nEDEx\, for a strategic conversation on building operational models that don’t just sustain the system – but actively strengthen it. Taking place on the Business & Finance stage at 12.40pm. From Pressure to Performance: Operational Excellence in a Trust Led System; As the sector continues its shift towards trust led working\, operational excellence has moved from a supporting function to a strategic imperative. This session brings together sector leaders to explore how trusts and schools can respond to sustained financial pressure\, workforce complexity and rising accountability – without losing sight of pupil outcomes. Drawing on themes from the latest schools white paper\, we’ll examine how strong financial stewardship\, intelligent procurement and mature operational leadership enable resilience\, scalability and value for money.\n\nRegister for your ticket here: https://www.schoolsandacademiesshow.co.uk/registration\n\n 
URL:https://www.iris.co.uk/event/iris-at-schools-academies-show-london-7-may/
LOCATION:ExCeL London\, Royal Victoria Dock\, 1 Western Gateway\, Royal Docks\, London\, E16 1XL\, United Kingdom
CATEGORIES:Attending
ATTACH;FMTTYPE=image/webp:https://www.iris.co.uk/wp-content/uploads/2026/04/OfficialExhibitor1200x300.webp
END:VEVENT
END:VCALENDAR